BEGIN:VCALENDAR
VERSION:2.0
PRODID:-//wp-events-plugin.com//7.0.5//EN
BEGIN:VEVENT
UID:3171@helvoirthuis.nl
DTSTART;TZID=Europe/Amsterdam:20260422T193000
DTEND;TZID=Europe/Amsterdam:20260422T220000
DTSTAMP:20260420T195643Z
URL:https://helvoirthuis.nl/events/heemkundekring-de-kleine-meijerij/
SUMMARY:Heemkundekring De Kleine Meijerij
DESCRIPTION:OVER DE LOONSE EN DRUNENSE DUINEN IN DE TWEEDE WERELDOORLOG\n\n
 Henk Peters uit Udenhout zal voor U een lezing met PowerPointpresentatie v
 erzorgen rond de zes oorlogsmonumenten in Nationaal Park De Loonse- en Dru
 nense Duinen\, waarover hij ook een boek geschreven heeft. Hij vertelt waa
 r de monumenten zich bevinden en wat er op die plek gebeurd is. Door zijn 
 verhalen geeft hij die oorlogsgebeurtenissen een menselijk gezicht.\n\nWat
  is er op de Distelberg en bij het Steegerf in Drunen gebeurd toen de Scho
 tse 51e Highland Division het Drongelens afwateringskanaal overstak? Aangr
 ijpend is het verhaal bij het Kruis in de duinen van de Rotterdamse evacu
 é Ton van Dijk\, die uit zelfbescherming pas na 67 jaar zwijgen zijn dram
 atisch verhaal als oorlogsslachtoffer deed.\n\nHenk vertelt over het Udenh
 outs Mariakapelletje en weet alles over de veertien verzetsstrijders\, die
  bij Bosch en Duin gefusilleerd zijn en de zoekpogingen naar hun lichamen.
  De Tilburgse verzetsgroep komt daarbij uitgebreid aan bod.\n\nHeel apart 
 is het verhaal van de twee Joodse onderduiksters\, waarvan 80 jaar niets v
 ernomen was en waarvan hij de geschiedenis wist op te sporen.\n\nOok toont
  hij ons waar nu nog sporen van bomkraters en van een loopgraaf in het Nat
 ionaal Park te zien zijn en hoe die daar gekomen zijn.\n\nTot slot zal hij
  u ook vertellen over de Joodse filmploeg\, die een documentaire gemaakt h
 eeft bij het Vredesmonument in Kaatsheuvel. Deze gaat over twee goede Duit
 se soldaten\, die documenten vervalsten en daarmee honderden Joden het lev
 en gered hebben. Eén van die twee is omgekomen in de buurt van in Loon op
  Zand.\n\nIn deze lezing komen eigenlijk alle gebeurtenissen van de oorlog
  aan bod\, die exemplarisch zijn voor alle dorpen en steden van Brabant. V
 oorbeelden hiervan zijn: Geweld\, vernielingen\, militaire acties\, helden
 dom\, verraad\, liefde\, Jodenvervolging\, onderduikers\, persoonlijke dra
 ma’s en oorlogsmisdaden.\n\nToegang voor leden is gratis\, aan niet-lede
 n vragen we een bijdrage van € 5\,00. Exclusief koffie/thee.
CATEGORIES:Event
LOCATION:Helvoirthuis\, Kloosterstraat 30\, Helvoirt\, Noord-Brabant\, 5268
  AC\, Nederland
X-APPLE-STRUCTURED-LOCATION;VALUE=URI;X-ADDRESS=Kloosterstraat 30\, Helvoir
 t\, Noord-Brabant\, 5268 AC\, Nederland;X-APPLE-RADIUS=100;X-TITLE=Helvoir
 thuis:geo:0,0
END:VEVENT
BEGIN:VTIMEZONE
TZID:Europe/Amsterdam
X-LIC-LOCATION:Europe/Amsterdam
BEGIN:DAYLIGHT
DTSTART:20260329T030000
TZOFFSETFROM:+0100
TZOFFSETTO:+0200
TZNAME:CEST
END:DAYLIGHT
END:VTIMEZONE
END:VCALENDAR